BEGIN:VCALENDAR
VERSION:2.0
PRODID:-//Model Train Media - ECPv6.15.20//NONSGML v1.0//EN
CALSCALE:GREGORIAN
METHOD:PUBLISH
X-ORIGINAL-URL:https://modeltrainmedia.com
X-WR-CALDESC:Events for Model Train Media
REFRESH-INTERVAL;VALUE=DURATION:PT1H
X-Robots-Tag:noindex
X-PUBLISHED-TTL:PT1H
BEGIN:VTIMEZONE
TZID:Europe/Amsterdam
BEGIN:DAYLIGHT
TZOFFSETFROM:+0100
TZOFFSETTO:+0200
TZNAME:CEST
DTSTART:20250330T010000
END:DAYLIGHT
BEGIN:STANDARD
TZOFFSETFROM:+0200
TZOFFSETTO:+0100
TZNAME:CET
DTSTART:20251026T010000
END:STANDARD
BEGIN:DAYLIGHT
TZOFFSETFROM:+0100
TZOFFSETTO:+0200
TZNAME:CEST
DTSTART:20260329T010000
END:DAYLIGHT
BEGIN:STANDARD
TZOFFSETFROM:+0200
TZOFFSETTO:+0100
TZNAME:CET
DTSTART:20261025T010000
END:STANDARD
BEGIN:DAYLIGHT
TZOFFSETFROM:+0100
TZOFFSETTO:+0200
TZNAME:CEST
DTSTART:20270328T010000
END:DAYLIGHT
BEGIN:STANDARD
TZOFFSETFROM:+0200
TZOFFSETTO:+0100
TZNAME:CET
DTSTART:20271031T010000
END:STANDARD
END:VTIMEZONE
BEGIN:VEVENT
DTSTART;VALUE=DATE:20260606
DTEND;VALUE=DATE:20260608
DTSTAMP:20260420T140030
CREATED:20260209T111640Z
LAST-MODIFIED:20260209T111640Z
UID:10000019-1780704000-1780876799@modeltrainmedia.com
SUMMARY:Scalefour Crewe 2026
DESCRIPTION:Scalefour Crewe 2026 is a specialist model railway exhibition dedicated to 4mm fine-scale modelling (P4 standards). Now in its 4th year\, it succeeds the much-loved “Scalefour North” show as the Society’s northern exhibition. Held on 6–7 June in the Crewe Alexandra FC stadium’s conference hall\, the event provides an informal gathering for like-minded fine-scale enthusiasts to meet\, share ideas\, and be inspired. Expect several outstanding P4 layout displays that truly capture realistic detail\, alongside many of the UK’s top specialist traders in fine-scale components (track\, kits\, parts). A key feature of Scalefour Crewe is the strong emphasis on demonstrations and learning – skilled modellers will be on hand showing techniques (track building\, kit building\, weathering\, etc.) and there are no barriers in front of layouts\, encouraging conversations with exhibitors. Everyone is welcome (you don’t have to be a member)\, and if you are intrigued by the precision of P4 modelling\, this event offers a welcoming introduction to the finescale side of the hobby
URL:https://modeltrainmedia.com/event/scalefour-crewe-2026/
LOCATION:Mornflake Stadium (Crewe Alexandra FC) – Wrights Suite\, Gresty Road\, Crewe\, Cheshire\, Crewe\, CW2 6EB\, United Kingdom
CATEGORIES:Exhibition
END:VEVENT
END:VCALENDAR