BEGIN:VCALENDAR
VERSION:2.0
PRODID:-//Model Train Media - ECPv6.15.20//NONSGML v1.0//EN
CALSCALE:GREGORIAN
METHOD:PUBLISH
X-WR-CALNAME:Model Train Media
X-ORIGINAL-URL:https://modeltrainmedia.com
X-WR-CALDESC:Events for Model Train Media
REFRESH-INTERVAL;VALUE=DURATION:PT1H
X-Robots-Tag:noindex
X-PUBLISHED-TTL:PT1H
BEGIN:VTIMEZONE
TZID:Europe/Amsterdam
BEGIN:DAYLIGHT
TZOFFSETFROM:+0100
TZOFFSETTO:+0200
TZNAME:CEST
DTSTART:20250330T010000
END:DAYLIGHT
BEGIN:STANDARD
TZOFFSETFROM:+0200
TZOFFSETTO:+0100
TZNAME:CET
DTSTART:20251026T010000
END:STANDARD
BEGIN:DAYLIGHT
TZOFFSETFROM:+0100
TZOFFSETTO:+0200
TZNAME:CEST
DTSTART:20260329T010000
END:DAYLIGHT
BEGIN:STANDARD
TZOFFSETFROM:+0200
TZOFFSETTO:+0100
TZNAME:CET
DTSTART:20261025T010000
END:STANDARD
BEGIN:DAYLIGHT
TZOFFSETFROM:+0100
TZOFFSETTO:+0200
TZNAME:CEST
DTSTART:20270328T010000
END:DAYLIGHT
BEGIN:STANDARD
TZOFFSETFROM:+0200
TZOFFSETTO:+0100
TZNAME:CET
DTSTART:20271031T010000
END:STANDARD
END:VTIMEZONE
BEGIN:VEVENT
DTSTART;VALUE=DATE:20260221
DTEND;VALUE=DATE:20260222
DTSTAMP:20260421T023544
CREATED:20260209T110250Z
LAST-MODIFIED:20260209T110250Z
UID:10000016-1771632000-1771718399@modeltrainmedia.com
SUMMARY:Tonbridge Model Railway Exhibition 2026
DESCRIPTION:A popular regional show\, the Tonbridge Model Railway Club’s Annual Exhibition is one of the largest one-day model railway shows in Kent. The 2026 exhibition takes place on Saturday 21st February at the Angel Centre in Tonbridge. It is known for the quality and variety of its exhibits – showcasing a range of layouts in different gauges and eras\, all of a high standard. You’ll also find a good selection of trade stands from model shops and specialist suppliers\, as well as demonstrations and society displays. Light refreshments are available and the town-centre venue is easily accessible (just a 5-minute walk from Tonbridge station). This show offers a fantastic day out for local enthusiasts\, with a friendly atmosphere and even some hands-on opportunities for kids.
URL:https://modeltrainmedia.com/event/tonbridge-model-railway-exhibition-2026/
LOCATION:The Angel Centre\, Angel Centre\, Angel Lane\, Tonbridge\, Kent\, Tonbridge\, TN9 1SF\, United Kingdom
CATEGORIES:Exhibition
END:VEVENT
BEGIN:VEVENT
DTSTART;VALUE=DATE:20260215
DTEND;VALUE=DATE:20260216
DTSTAMP:20260421T023544
CREATED:20260209T161437Z
LAST-MODIFIED:20260209T161437Z
UID:10000020-1771113600-1771199999@modeltrainmedia.com
SUMMARY:Great Train Show – Xenia\, OH
DESCRIPTION:The Great Train Show in Xenia is a traveling model train expo featuring two buildings full of model train vendors and huge operating layouts in multiple scales. Families can enjoy interactive exhibits (including a riding train for kids) and free workshops\, making it a must-visit model train show in Ohio.
URL:https://modeltrainmedia.com/event/great-train-show-xenia-oh/
LOCATION:Greene County Expo Center\, 120 Fairground Rd\, Xenia\, OH\, OH\, 45385\, United States
CATEGORIES:Train Show
END:VEVENT
BEGIN:VEVENT
DTSTART;VALUE=DATE:20260214
DTEND;VALUE=DATE:20260216
DTSTAMP:20260421T023544
CREATED:20260209T161812Z
LAST-MODIFIED:20260209T161812Z
UID:10000021-1771027200-1771199999@modeltrainmedia.com
SUMMARY:Great Train Show – Costa Mesa\, CA
DESCRIPTION:A major model train show in Southern California\, the Costa Mesa Great Train Show brings dozens of dealers and operating model railroad displays to the OC Fairgrounds. Attendees can shop new and vintage model trains in all scales\, learn from demonstrations\, and enjoy family attractions like a riding train. It’s a premier West Coast train show for enthusiasts and families.
URL:https://modeltrainmedia.com/event/great-train-show-costa-mesa-ca/
LOCATION:OC Fair & Event Center (Orange County Fairgrounds)\, 88 Fair Dr\, Costa Mesa\, CA 92626\, United States\, 92626\, United States
CATEGORIES:Train Show
END:VEVENT
BEGIN:VEVENT
DTSTART;VALUE=DATE:20260209
DTEND;VALUE=DATE:20260210
DTSTAMP:20260421T023544
CREATED:20260209T185257Z
LAST-MODIFIED:20260209T185257Z
UID:10000029-1770595200-1770681599@modeltrainmedia.com
SUMMARY:Greenberg’s Great Train & Toy Show – Oaks (Philadelphia)\, PA
DESCRIPTION:Serving the Philadelphia region\, the Oaks Greenberg Show is one of the largest summer model train shows on the East Coast. It features over 250 tables of trains and toys for sale\, including collector-grade pieces and the latest new releases. Multiple operating layouts (from tiny N scale to giant G gauge) will be on display\, and experts are on hand to answer questions. It’s a broad-appeal train and hobby show perfect for both serious collectors and families.
URL:https://modeltrainmedia.com/event/greenbergs-great-train-toy-show-oaks-philadelphia-pa/
LOCATION:The Greater Philadelphia Expo Center\, 100 Station Ave\, Oaks\, PA 19456\, United States\, United States
CATEGORIES:Train Show
END:VEVENT
BEGIN:VEVENT
DTSTART;VALUE=DATE:20260207
DTEND;VALUE=DATE:20260209
DTSTAMP:20260421T023544
CREATED:20260208T230732Z
LAST-MODIFIED:20260208T230732Z
UID:10000003-1770422400-1770595199@modeltrainmedia.com
SUMMARY:The Festival of British Railway Modelling 2026
DESCRIPTION:One of the premier railway modelling shows in the UK\, showcasing over 30 intricate layouts and trade stands celebrating the hobby of British railway modelling.
URL:https://modeltrainmedia.com/event/the-festival-of-british-railway-modelling-2026/
LOCATION:Doncaster Racecourse\, Bawtry Road\, Doncaster\, DN2 6BB\, United Kingdom
CATEGORIES:Exhibition
END:VEVENT
END:VCALENDAR