BEGIN:VCALENDAR
VERSION:2.0
PRODID:-//Model Train Media - ECPv6.15.20//NONSGML v1.0//EN
CALSCALE:GREGORIAN
METHOD:PUBLISH
X-ORIGINAL-URL:https://modeltrainmedia.com
X-WR-CALDESC:Events for Model Train Media
REFRESH-INTERVAL;VALUE=DURATION:PT1H
X-Robots-Tag:noindex
X-PUBLISHED-TTL:PT1H
BEGIN:VTIMEZONE
TZID:Europe/Amsterdam
BEGIN:DAYLIGHT
TZOFFSETFROM:+0100
TZOFFSETTO:+0200
TZNAME:CEST
DTSTART:20250330T010000
END:DAYLIGHT
BEGIN:STANDARD
TZOFFSETFROM:+0200
TZOFFSETTO:+0100
TZNAME:CET
DTSTART:20251026T010000
END:STANDARD
BEGIN:DAYLIGHT
TZOFFSETFROM:+0100
TZOFFSETTO:+0200
TZNAME:CEST
DTSTART:20260329T010000
END:DAYLIGHT
BEGIN:STANDARD
TZOFFSETFROM:+0200
TZOFFSETTO:+0100
TZNAME:CET
DTSTART:20261025T010000
END:STANDARD
BEGIN:DAYLIGHT
TZOFFSETFROM:+0100
TZOFFSETTO:+0200
TZNAME:CEST
DTSTART:20270328T010000
END:DAYLIGHT
BEGIN:STANDARD
TZOFFSETFROM:+0200
TZOFFSETTO:+0100
TZNAME:CET
DTSTART:20271031T010000
END:STANDARD
END:VTIMEZONE
BEGIN:VTIMEZONE
TZID:Europe/London
BEGIN:DAYLIGHT
TZOFFSETFROM:+0000
TZOFFSETTO:+0100
TZNAME:BST
DTSTART:20250330T010000
END:DAYLIGHT
BEGIN:STANDARD
TZOFFSETFROM:+0100
TZOFFSETTO:+0000
TZNAME:GMT
DTSTART:20251026T010000
END:STANDARD
BEGIN:DAYLIGHT
TZOFFSETFROM:+0000
TZOFFSETTO:+0100
TZNAME:BST
DTSTART:20260329T010000
END:DAYLIGHT
BEGIN:STANDARD
TZOFFSETFROM:+0100
TZOFFSETTO:+0000
TZNAME:GMT
DTSTART:20261025T010000
END:STANDARD
BEGIN:DAYLIGHT
TZOFFSETFROM:+0000
TZOFFSETTO:+0100
TZNAME:BST
DTSTART:20270328T010000
END:DAYLIGHT
BEGIN:STANDARD
TZOFFSETFROM:+0100
TZOFFSETTO:+0000
TZNAME:GMT
DTSTART:20271031T010000
END:STANDARD
END:VTIMEZONE
BEGIN:VEVENT
DTSTART;VALUE=DATE:20260207
DTEND;VALUE=DATE:20260209
DTSTAMP:20260420T135222
CREATED:20260208T230732Z
LAST-MODIFIED:20260208T230732Z
UID:10000003-1770422400-1770595199@modeltrainmedia.com
SUMMARY:The Festival of British Railway Modelling 2026
DESCRIPTION:One of the premier railway modelling shows in the UK\, showcasing over 30 intricate layouts and trade stands celebrating the hobby of British railway modelling.
URL:https://modeltrainmedia.com/event/the-festival-of-british-railway-modelling-2026/
LOCATION:Doncaster Racecourse\, Bawtry Road\, Doncaster\, DN2 6BB\, United Kingdom
CATEGORIES:Exhibition
END:VEVENT
BEGIN:VEVENT
DTSTART;VALUE=DATE:20260209
DTEND;VALUE=DATE:20260210
DTSTAMP:20260420T135222
CREATED:20260209T185257Z
LAST-MODIFIED:20260209T185257Z
UID:10000029-1770595200-1770681599@modeltrainmedia.com
SUMMARY:Greenberg’s Great Train & Toy Show – Oaks (Philadelphia)\, PA
DESCRIPTION:Serving the Philadelphia region\, the Oaks Greenberg Show is one of the largest summer model train shows on the East Coast. It features over 250 tables of trains and toys for sale\, including collector-grade pieces and the latest new releases. Multiple operating layouts (from tiny N scale to giant G gauge) will be on display\, and experts are on hand to answer questions. It’s a broad-appeal train and hobby show perfect for both serious collectors and families.
URL:https://modeltrainmedia.com/event/greenbergs-great-train-toy-show-oaks-philadelphia-pa/
LOCATION:The Greater Philadelphia Expo Center\, 100 Station Ave\, Oaks\, PA 19456\, United States\, United States
CATEGORIES:Train Show
END:VEVENT
BEGIN:VEVENT
DTSTART;VALUE=DATE:20260214
DTEND;VALUE=DATE:20260216
DTSTAMP:20260420T135223
CREATED:20260209T161812Z
LAST-MODIFIED:20260209T161812Z
UID:10000021-1771027200-1771199999@modeltrainmedia.com
SUMMARY:Great Train Show – Costa Mesa\, CA
DESCRIPTION:A major model train show in Southern California\, the Costa Mesa Great Train Show brings dozens of dealers and operating model railroad displays to the OC Fairgrounds. Attendees can shop new and vintage model trains in all scales\, learn from demonstrations\, and enjoy family attractions like a riding train. It’s a premier West Coast train show for enthusiasts and families.
URL:https://modeltrainmedia.com/event/great-train-show-costa-mesa-ca/
LOCATION:OC Fair & Event Center (Orange County Fairgrounds)\, 88 Fair Dr\, Costa Mesa\, CA 92626\, United States\, 92626\, United States
CATEGORIES:Train Show
END:VEVENT
BEGIN:VEVENT
DTSTART;VALUE=DATE:20260215
DTEND;VALUE=DATE:20260216
DTSTAMP:20260420T135223
CREATED:20260209T161437Z
LAST-MODIFIED:20260209T161437Z
UID:10000020-1771113600-1771199999@modeltrainmedia.com
SUMMARY:Great Train Show – Xenia\, OH
DESCRIPTION:The Great Train Show in Xenia is a traveling model train expo featuring two buildings full of model train vendors and huge operating layouts in multiple scales. Families can enjoy interactive exhibits (including a riding train for kids) and free workshops\, making it a must-visit model train show in Ohio.
URL:https://modeltrainmedia.com/event/great-train-show-xenia-oh/
LOCATION:Greene County Expo Center\, 120 Fairground Rd\, Xenia\, OH\, OH\, 45385\, United States
CATEGORIES:Train Show
END:VEVENT
BEGIN:VEVENT
DTSTART;VALUE=DATE:20260221
DTEND;VALUE=DATE:20260222
DTSTAMP:20260420T135223
CREATED:20260209T110250Z
LAST-MODIFIED:20260209T110250Z
UID:10000016-1771632000-1771718399@modeltrainmedia.com
SUMMARY:Tonbridge Model Railway Exhibition 2026
DESCRIPTION:A popular regional show\, the Tonbridge Model Railway Club’s Annual Exhibition is one of the largest one-day model railway shows in Kent. The 2026 exhibition takes place on Saturday 21st February at the Angel Centre in Tonbridge. It is known for the quality and variety of its exhibits – showcasing a range of layouts in different gauges and eras\, all of a high standard. You’ll also find a good selection of trade stands from model shops and specialist suppliers\, as well as demonstrations and society displays. Light refreshments are available and the town-centre venue is easily accessible (just a 5-minute walk from Tonbridge station). This show offers a fantastic day out for local enthusiasts\, with a friendly atmosphere and even some hands-on opportunities for kids.
URL:https://modeltrainmedia.com/event/tonbridge-model-railway-exhibition-2026/
LOCATION:The Angel Centre\, Angel Centre\, Angel Lane\, Tonbridge\, Kent\, Tonbridge\, TN9 1SF\, United Kingdom
CATEGORIES:Exhibition
END:VEVENT
BEGIN:VEVENT
DTSTART;VALUE=DATE:20260221
DTEND;VALUE=DATE:20260223
DTSTAMP:20260420T135223
CREATED:20260209T162410Z
LAST-MODIFIED:20260209T162410Z
UID:10000023-1771632000-1771804799@modeltrainmedia.com
SUMMARY:Great Train Show – Vallejo\, CA
DESCRIPTION:The Great Train Show’s Bay Area stop features 100+ tables of model trains and railroad memorabilia for sale\, plus huge operating train layouts that will delight all ages. From HO and N scale modular displays to G-scale garden railroads\, Vallejo’s show offers a comprehensive model railroading experience. It’s a top exhibition for hobbyists in Northern California.
URL:https://modeltrainmedia.com/event/great-train-show-vallejo-ca/
LOCATION:Solano County Fairgrounds & Event Center\, 900 Fairgrounds Dr\, Vallejo\, CA 94589\, United States\, NC\, 94589\, United States
CATEGORIES:Train Show
END:VEVENT
BEGIN:VEVENT
DTSTART;VALUE=DATE:20260221
DTEND;VALUE=DATE:20260223
DTSTAMP:20260420T135223
CREATED:20260209T162106Z
LAST-MODIFIED:20260209T162106Z
UID:10000022-1771632000-1771804799@modeltrainmedia.com
SUMMARY:Great Train Show – Girard\, OH
DESCRIPTION:A large-scale model train marketplace in northeast Ohio. This Great Train Show stop fills the Metroplex with vendors offering model railroad products (locomotives\, rolling stock\, scenery\, etc.) and operating layouts in N\, HO\, O and more. Highlights include hands-on exhibits\, free test tracks\, and kid-friendly activities\, making it one of Ohio’s biggest winter train shows.
URL:https://modeltrainmedia.com/event/great-train-show-girard-oh/
LOCATION:Metroplex Expo Center\, 1620 Motor Inn Dr\, Girard\, OH 44420\, United States\, OH\, 44420\, United States
CATEGORIES:Train Show
END:VEVENT
BEGIN:VEVENT
DTSTART;VALUE=DATE:20260221
DTEND;VALUE=DATE:20260223
DTSTAMP:20260420T135223
CREATED:20260208T232013Z
LAST-MODIFIED:20260208T232013Z
UID:10000004-1771632000-1771804799@modeltrainmedia.com
SUMMARY:Portsmouth Railex 2026 Model Railway Exhibition
DESCRIPTION:A major model railway exhibition with extensive layouts\, traders and societies participating\, drawing visitors from across the UK.
URL:https://modeltrainmedia.com/event/portsmouth-railex-2026-model-railway-exhibition/
LOCATION:Horndean Technical College\, Barton Cross\, Horndean\, PO8 9PQ\, United Kingdom
CATEGORIES:Exhibition
END:VEVENT
BEGIN:VEVENT
DTSTART;VALUE=DATE:20260228
DTEND;VALUE=DATE:20260301
DTSTAMP:20260420T135223
CREATED:20260220T173040Z
LAST-MODIFIED:20260221T190729Z
UID:10000034-1772236800-1772323199@modeltrainmedia.com
SUMMARY:Southampton Toy Fair brought to you by Ron Lines
DESCRIPTION:The Southampton Toy Fair is a fantastic event for model railway enthusiasts\, collectors\, and families alike. Hosted by Ron’s Lines in Southampton\, this toy fair brings together a wide range of model trains\, diecast\, collectibles\, and other toys — perfect whether you’re searching for a rare find\, expanding your layout\, or just starting out in the hobby.\nExpect a friendly\, welcoming atmosphere with plenty of browsing opportunities\, with great deals from people around the area\, and the chance to chat with fellow railway modellers. Second-hand bargains are to be had\, whether it be railway\, diecast or general toys\, there’s something for everyone. \n\nA great day out for anyone passionate about model railways & less than a mile from the shop itself! \n\n10AM – 1.30PM (Last admission 1pm)\nAdmission £2 (Children under 12 Free)\nFor bookings call Annmarie on 02380 772 681\n \nOther dates throughout 2026: \n\nSaturday 6th June\nSaturday 12th September\nSaturday 5th December
URL:https://modeltrainmedia.com/event/southampton-toy-fair-brought-to-you-by-ron-lines/
LOCATION:St James Road Methodist Church\, St James Road Methodist\, St James Rd\, Shirley\, Southampton SO15 5HE\, SO15 5HE\, United Kingdom
CATEGORIES:Sale event
ATTACH;FMTTYPE=image/avif:https://modeltrainmedia.com/wp-content/uploads/2026/02/bbmediaactivityimage.avif
END:VEVENT
BEGIN:VEVENT
DTSTART;VALUE=DATE:20260228
DTEND;VALUE=DATE:20260302
DTSTAMP:20260420T135223
CREATED:20260209T162911Z
LAST-MODIFIED:20260209T162911Z
UID:10000024-1772236800-1772409599@modeltrainmedia.com
SUMMARY:Great Train Show – Sacramento\, CA
DESCRIPTION:The Sacramento Great Train Show is one of the largest model train events in Northern California\, occupying Cal Expo with vast vendor booths and impressive operating layouts. Visitors can explore 3+ acres of trains from Z to G scale\, meet manufacturers (like Lionel\, Bachmann\, etc.)\, and participate in workshops. It’s a must-see hobby show\, offering two full days of model railroading fun.
URL:https://modeltrainmedia.com/event/great-train-show-sacramento-ca/
LOCATION:Cal Expo (California Exposition Fairgrounds)\, 1600 Exposition Blvd\, Sacramento\, CA 95815\, United States\, CA\, 95815\, United States
CATEGORIES:Train Show
END:VEVENT
BEGIN:VEVENT
DTSTART;VALUE=DATE:20260228
DTEND;VALUE=DATE:20260302
DTSTAMP:20260420T135223
CREATED:20260208T232608Z
LAST-MODIFIED:20260208T232608Z
UID:10000005-1772236800-1772409599@modeltrainmedia.com
SUMMARY:Midlands Garden Rail Show 2026
DESCRIPTION:Popular garden railway event showcasing larger scale layouts\, trade stands and demonstration spaces — perfect for enthusiasts of bigger gauge modelling.
URL:https://modeltrainmedia.com/event/midlands-garden-rail-show-2026/
LOCATION:Warwickshire Event Centre\, Leamington Spa\, Warwickshire\, United Kingdom
CATEGORIES:Exhibition
END:VEVENT
BEGIN:VEVENT
DTSTART;VALUE=DATE:20260307
DTEND;VALUE=DATE:20260309
DTSTAMP:20260420T135223
CREATED:20260209T110702Z
LAST-MODIFIED:20260209T110702Z
UID:10000017-1772841600-1773014399@modeltrainmedia.com
SUMMARY:Preston Model Railway Exhibition 2026
DESCRIPTION:The Preston & District MRS Exhibition is one of the biggest model railway shows in North-West England. The 2026 event takes place on the weekend of March 7–8 at Preston College in Fulwood – a venue with ample parking and level access. Visitors can enjoy 20+ high-quality model layouts covering a wide range of themes and scales\, plus a similar number of trade stands offering kits\, tools\, and models. The exhibition prides itself on its friendly atmosphere and comfortable viewing (no tight spaces or steps). Local clubs and special interest societies will also be present\, making this a well-rounded show. Whether you’re a seasoned modeller or a family looking for a great day out\, the Preston exhibition has plenty to see and is not to be missed in the NW region
URL:https://modeltrainmedia.com/event/preston-model-railway-exhibition-2026/
LOCATION:Preston College Sports Hall\, Preston College\, St. Vincent’s Road\, Fulwood\, Preston\, Preston\, PR2 8UR\, United Kingdom
CATEGORIES:Exhibition
END:VEVENT
BEGIN:VEVENT
DTSTART;VALUE=DATE:20260314
DTEND;VALUE=DATE:20260316
DTSTAMP:20260420T135223
CREATED:20260209T164231Z
LAST-MODIFIED:20260209T164231Z
UID:10000025-1773446400-1773619199@modeltrainmedia.com
SUMMARY:Great Train Show – Fort Wayne\, IN
DESCRIPTION:A major Midwest train show stop\, the Fort Wayne Great Train Show brings national model train dealers and collectors together under one roof. Enthusiasts can browse hundreds of tables of model trains (new\, used\, collectible)\, view operating layouts from regional clubs\, and join demonstrations on scenery and digital command control. It’s the premier model railroad show in Indiana for 2026.
URL:https://modeltrainmedia.com/event/great-train-show-fort-wayne-in/
LOCATION:Allen County War Memorial Coliseum\, 4000 Parnell Ave\, Fort Wayne\, IN 46805\, United States\, 46805\, United States
CATEGORIES:Train Show
END:VEVENT
BEGIN:VEVENT
DTSTART;VALUE=DATE:20260321
DTEND;VALUE=DATE:20260323
DTSTAMP:20260420T135223
CREATED:20260209T184658Z
LAST-MODIFIED:20260209T184658Z
UID:10000027-1774051200-1774223999@modeltrainmedia.com
SUMMARY:Greenberg’s Great Train & Toy Show – Wilmington\, MA
DESCRIPTION:A longtime favorite in New England\, the Wilmington Greenberg Show is an all-scales model train and toy show featuring hundreds of tables of trains and accessories for sale. Attendees can explore operating layouts (O\, HO\, N\, and LEGO)\, attend educational demos\, and shop vintage toys and railroadiana. It’s known as the largest train & toy show in the Boston area\, drawing enthusiasts from across the Northeast.
URL:https://modeltrainmedia.com/event/greenbergs-great-train-toy-show-wilmington-ma/
LOCATION:Shriners Auditorium\, 99 Fordham Rd\, Wilmington\, MA 01887\, United States\, 01887\, United States
CATEGORIES:Train Show
END:VEVENT
BEGIN:VEVENT
DTSTART;VALUE=DATE:20260321
DTEND;VALUE=DATE:20260323
DTSTAMP:20260420T135223
CREATED:20260208T232855Z
LAST-MODIFIED:20260208T232855Z
UID:10000006-1774051200-1774223999@modeltrainmedia.com
SUMMARY:The London Festival of Railway Modelling 2026
DESCRIPTION:One of the largest UK modelling shows\, featuring dozens of hand-picked layouts\, specialist retailers and expert demonstrators — a major highlight for the national modelling community.
URL:https://modeltrainmedia.com/event/the-london-festival-of-railway-modelling-2026/
LOCATION:Alexandra Palace\, Alexandra Palace Way\, London\, N22 7AY\, United Kingdom
CATEGORIES:Exhibition
END:VEVENT
BEGIN:VEVENT
DTSTART;VALUE=DATE:20260328
DTEND;VALUE=DATE:20260330
DTSTAMP:20260420T135223
CREATED:20260209T185039Z
LAST-MODIFIED:20260209T185039Z
UID:10000028-1774656000-1774828799@modeltrainmedia.com
SUMMARY:Greenberg’s Great Train & Toy Show – Edison\, NJ
DESCRIPTION:The Edison Greenberg Show is a major mid-Atlantic train and toy show held in a large expo venue. It boasts hundreds of dealers selling model trains (from Z scale to G)\, collectibles\, and toys\, alongside sizable operating train layouts. With specialists in Lionel and American Flyer trains present\, it’s a can’t-miss train collectors’ show in New Jersey that also offers plenty of family fun (kids’ play areas\, workshops).
URL:https://modeltrainmedia.com/event/greenbergs-great-train-toy-show-edison-nj/
LOCATION:New Jersey Convention & Expo Center\, 97 Sunfield Ave\, Edison\, NJ 08837\, United States\, 08837
CATEGORIES:Train Show
END:VEVENT
BEGIN:VEVENT
DTSTART;VALUE=DATE:20260328
DTEND;VALUE=DATE:20260330
DTSTAMP:20260420T135223
CREATED:20260209T165925Z
LAST-MODIFIED:20260209T165925Z
UID:10000026-1774656000-1774828799@modeltrainmedia.com
SUMMARY:Great Train Show – Dallas\, TX (World’s Greatest Hobby on Tour)
DESCRIPTION:Branded as a World’s Greatest Hobby on Tour event\, the Dallas Great Train Show is a Texas-sized model train exhibition. It showcases nearly 3 acres of operating train layouts and 800+ tables of vendors\, making it the largest model train show west of the Mississippi for 2026. Visitors can meet manufacturers\, see 30+ elaborate layouts\, enjoy kids’ activities (Ride-on trains\, Thomas play areas)\, and experience the excitement of the national train show tour.
URL:https://modeltrainmedia.com/event/great-train-show-dallas-tx-worlds-greatest-hobby-on-tour/
LOCATION:Dallas Market Hall\, 2200 N Stemmons Fwy\, Dallas\, TX 75207\, United States\, Dallas\, 75207\, United States
CATEGORIES:Train Show
END:VEVENT
BEGIN:VEVENT
DTSTART;VALUE=DATE:20260411
DTEND;VALUE=DATE:20260413
DTSTAMP:20260420T135223
CREATED:20260209T191622Z
LAST-MODIFIED:20260209T191812Z
UID:10000032-1775865600-1776038399@modeltrainmedia.com
SUMMARY:Rocky Mountain Train Show – Denver\, CO
DESCRIPTION:Billed as the largest model train show west of the Mississippi\, the Rocky Mountain Train Show spans almost 3 acres with 30+ operating layouts and over 800 sales tables. Thousands of visitors will enjoy attractions like the Union Pacific “Big Boy” presentation\, free kids’ activities (engineer hats\, ride-on trains\, crafts)\, and numerous manufacturers displaying new products. It’s a massive train extravaganza that showcases the breadth of model railroading to hobbyists and families alike.
URL:https://modeltrainmedia.com/event/rocky-mountain-train-show-denver-co/
LOCATION:National Western Complex (Expo Hall & Hall of Education)\, 4655 Humboldt St\, Denver\, CO 80216\, United States\, 80216\, United States
CATEGORIES:Train Show
END:VEVENT
END:VCALENDAR