BEGIN:VCALENDAR
VERSION:2.0
PRODID:-//Model Train Media - ECPv6.15.20//NONSGML v1.0//EN
CALSCALE:GREGORIAN
METHOD:PUBLISH
X-ORIGINAL-URL:https://modeltrainmedia.com
X-WR-CALDESC:Events for Model Train Media
REFRESH-INTERVAL;VALUE=DURATION:PT1H
X-Robots-Tag:noindex
X-PUBLISHED-TTL:PT1H
BEGIN:VTIMEZONE
TZID:Europe/Amsterdam
BEGIN:DAYLIGHT
TZOFFSETFROM:+0100
TZOFFSETTO:+0200
TZNAME:CEST
DTSTART:20250330T010000
END:DAYLIGHT
BEGIN:STANDARD
TZOFFSETFROM:+0200
TZOFFSETTO:+0100
TZNAME:CET
DTSTART:20251026T010000
END:STANDARD
BEGIN:DAYLIGHT
TZOFFSETFROM:+0100
TZOFFSETTO:+0200
TZNAME:CEST
DTSTART:20260329T010000
END:DAYLIGHT
BEGIN:STANDARD
TZOFFSETFROM:+0200
TZOFFSETTO:+0100
TZNAME:CET
DTSTART:20261025T010000
END:STANDARD
BEGIN:DAYLIGHT
TZOFFSETFROM:+0100
TZOFFSETTO:+0200
TZNAME:CEST
DTSTART:20270328T010000
END:DAYLIGHT
BEGIN:STANDARD
TZOFFSETFROM:+0200
TZOFFSETTO:+0100
TZNAME:CET
DTSTART:20271031T010000
END:STANDARD
END:VTIMEZONE
BEGIN:VEVENT
DTSTART;VALUE=DATE:20260725
DTEND;VALUE=DATE:20260727
DTSTAMP:20260421T022857
CREATED:20260209T185546Z
LAST-MODIFIED:20260209T185611Z
UID:10000030-1784937600-1785110399@modeltrainmedia.com
SUMMARY:Greenberg’s Great Train & Toy Show – Monroeville (Pittsburgh)\, PA
DESCRIPTION:The Monroeville Greenberg Show is a major train & toy meet for western Pennsylvania\, known for drawing large crowds of train enthusiasts each year. Over a hundred vendors will offer model trains in all gauges\, scenery supplies\, die-cast vehicles and more. The show includes operating modular layouts by local clubs\, kids’ activities\, and repair clinics. It’s the premier model railroad show in the Pittsburgh area during the summer season
URL:https://modeltrainmedia.com/event/greenbergs-great-train-toy-show-monroeville-pittsburgh-pa/
LOCATION:Monroeville Convention Center\, 209 Mall Plaza Blvd\, Monroeville\, PA 15146\, United States\, 15146\, United States
CATEGORIES:Train Show
END:VEVENT
END:VCALENDAR