BEGIN:VCALENDAR
VERSION:2.0
PRODID:-//Model Train Media - ECPv6.15.20//NONSGML v1.0//EN
CALSCALE:GREGORIAN
METHOD:PUBLISH
X-WR-CALNAME:Model Train Media
X-ORIGINAL-URL:https://modeltrainmedia.com
X-WR-CALDESC:Events for Model Train Media
REFRESH-INTERVAL;VALUE=DURATION:PT1H
X-Robots-Tag:noindex
X-PUBLISHED-TTL:PT1H
BEGIN:VTIMEZONE
TZID:Europe/Amsterdam
BEGIN:DAYLIGHT
TZOFFSETFROM:+0100
TZOFFSETTO:+0200
TZNAME:CEST
DTSTART:20250330T010000
END:DAYLIGHT
BEGIN:STANDARD
TZOFFSETFROM:+0200
TZOFFSETTO:+0100
TZNAME:CET
DTSTART:20251026T010000
END:STANDARD
BEGIN:DAYLIGHT
TZOFFSETFROM:+0100
TZOFFSETTO:+0200
TZNAME:CEST
DTSTART:20260329T010000
END:DAYLIGHT
BEGIN:STANDARD
TZOFFSETFROM:+0200
TZOFFSETTO:+0100
TZNAME:CET
DTSTART:20261025T010000
END:STANDARD
BEGIN:DAYLIGHT
TZOFFSETFROM:+0100
TZOFFSETTO:+0200
TZNAME:CEST
DTSTART:20270328T010000
END:DAYLIGHT
BEGIN:STANDARD
TZOFFSETFROM:+0200
TZOFFSETTO:+0100
TZNAME:CET
DTSTART:20271031T010000
END:STANDARD
END:VTIMEZONE
BEGIN:VEVENT
DTSTART;VALUE=DATE:20260523
DTEND;VALUE=DATE:20260525
DTSTAMP:20260420T232624
CREATED:20260209T105635Z
LAST-MODIFIED:20260209T105635Z
UID:10000014-1779494400-1779667199@modeltrainmedia.com
SUMMARY:RAILEX 2026 – Aylesbury
DESCRIPTION:RAILEX 2026 is a top-tier model railway exhibition known as “The Modellers’ Exhibition”. Taking place at the modern Stoke Mandeville Stadium on 23–24 May 2026\, it is organized by the Risborough & District MRC. RAILEX is renowned for its emphasis on quality and variety – the show will feature 20+ superb model layouts curated from around the UK\, extensive trade support (manufacturers\, retailers\, second-hand sales)\, and expert demonstrations. Visitors can also enjoy society stands and refreshments on site. With a high standard of exhibits and a large\, fully accessible venue\, RAILEX has become one of the UK’s must-visit model railway shows of the year\, especially popular among serious hobbyists. (Note: Early-bird tickets allow 9:30 entry; standard entry from 10:00.)
URL:https://modeltrainmedia.com/event/railex-2026-aylesbury/
LOCATION:Stoke Mandeville Stadium\, Stoke Mandeville Stadium\, Stadium Approach\, Aylesbury\, Buckinghamshire\, Aylesbury\, HP21 9PP\, United Kingdom
CATEGORIES:Exhibition
END:VEVENT
END:VCALENDAR