BEGIN:VCALENDAR
VERSION:2.0
PRODID:-//Model Train Media - ECPv6.15.20//NONSGML v1.0//EN
CALSCALE:GREGORIAN
METHOD:PUBLISH
X-ORIGINAL-URL:https://modeltrainmedia.com
X-WR-CALDESC:Events for Model Train Media
REFRESH-INTERVAL;VALUE=DURATION:PT1H
X-Robots-Tag:noindex
X-PUBLISHED-TTL:PT1H
BEGIN:VTIMEZONE
TZID:Europe/Amsterdam
BEGIN:DAYLIGHT
TZOFFSETFROM:+0100
TZOFFSETTO:+0200
TZNAME:CEST
DTSTART:20250330T010000
END:DAYLIGHT
BEGIN:STANDARD
TZOFFSETFROM:+0200
TZOFFSETTO:+0100
TZNAME:CET
DTSTART:20251026T010000
END:STANDARD
BEGIN:DAYLIGHT
TZOFFSETFROM:+0100
TZOFFSETTO:+0200
TZNAME:CEST
DTSTART:20260329T010000
END:DAYLIGHT
BEGIN:STANDARD
TZOFFSETFROM:+0200
TZOFFSETTO:+0100
TZNAME:CET
DTSTART:20261025T010000
END:STANDARD
BEGIN:DAYLIGHT
TZOFFSETFROM:+0100
TZOFFSETTO:+0200
TZNAME:CEST
DTSTART:20270328T010000
END:DAYLIGHT
BEGIN:STANDARD
TZOFFSETFROM:+0200
TZOFFSETTO:+0100
TZNAME:CET
DTSTART:20271031T010000
END:STANDARD
END:VTIMEZONE
BEGIN:VEVENT
DTSTART;VALUE=DATE:20260328
DTEND;VALUE=DATE:20260330
DTSTAMP:20260421T054034
CREATED:20260209T185039Z
LAST-MODIFIED:20260209T185039Z
UID:10000028-1774656000-1774828799@modeltrainmedia.com
SUMMARY:Greenberg’s Great Train & Toy Show – Edison\, NJ
DESCRIPTION:The Edison Greenberg Show is a major mid-Atlantic train and toy show held in a large expo venue. It boasts hundreds of dealers selling model trains (from Z scale to G)\, collectibles\, and toys\, alongside sizable operating train layouts. With specialists in Lionel and American Flyer trains present\, it’s a can’t-miss train collectors’ show in New Jersey that also offers plenty of family fun (kids’ play areas\, workshops).
URL:https://modeltrainmedia.com/event/greenbergs-great-train-toy-show-edison-nj/
LOCATION:New Jersey Convention & Expo Center\, 97 Sunfield Ave\, Edison\, NJ 08837\, United States\, 08837
CATEGORIES:Train Show
END:VEVENT
END:VCALENDAR