BEGIN:VCALENDAR
VERSION:2.0
PRODID:-//Model Train Media - ECPv6.15.20//NONSGML v1.0//EN
CALSCALE:GREGORIAN
METHOD:PUBLISH
X-ORIGINAL-URL:https://modeltrainmedia.com
X-WR-CALDESC:Events for Model Train Media
REFRESH-INTERVAL;VALUE=DURATION:PT1H
X-Robots-Tag:noindex
X-PUBLISHED-TTL:PT1H
BEGIN:VTIMEZONE
TZID:Europe/Amsterdam
BEGIN:DAYLIGHT
TZOFFSETFROM:+0100
TZOFFSETTO:+0200
TZNAME:CEST
DTSTART:20250330T010000
END:DAYLIGHT
BEGIN:STANDARD
TZOFFSETFROM:+0200
TZOFFSETTO:+0100
TZNAME:CET
DTSTART:20251026T010000
END:STANDARD
BEGIN:DAYLIGHT
TZOFFSETFROM:+0100
TZOFFSETTO:+0200
TZNAME:CEST
DTSTART:20260329T010000
END:DAYLIGHT
BEGIN:STANDARD
TZOFFSETFROM:+0200
TZOFFSETTO:+0100
TZNAME:CET
DTSTART:20261025T010000
END:STANDARD
BEGIN:DAYLIGHT
TZOFFSETFROM:+0100
TZOFFSETTO:+0200
TZNAME:CEST
DTSTART:20270328T010000
END:DAYLIGHT
BEGIN:STANDARD
TZOFFSETFROM:+0200
TZOFFSETTO:+0100
TZNAME:CET
DTSTART:20271031T010000
END:STANDARD
END:VTIMEZONE
BEGIN:VEVENT
DTSTART;VALUE=DATE:20260221
DTEND;VALUE=DATE:20260223
DTSTAMP:20260420T201528
CREATED:20260209T162410Z
LAST-MODIFIED:20260209T162410Z
UID:10000023-1771632000-1771804799@modeltrainmedia.com
SUMMARY:Great Train Show – Vallejo\, CA
DESCRIPTION:The Great Train Show’s Bay Area stop features 100+ tables of model trains and railroad memorabilia for sale\, plus huge operating train layouts that will delight all ages. From HO and N scale modular displays to G-scale garden railroads\, Vallejo’s show offers a comprehensive model railroading experience. It’s a top exhibition for hobbyists in Northern California.
URL:https://modeltrainmedia.com/event/great-train-show-vallejo-ca/
LOCATION:Solano County Fairgrounds & Event Center\, 900 Fairgrounds Dr\, Vallejo\, CA 94589\, United States\, NC\, 94589\, United States
CATEGORIES:Train Show
END:VEVENT
END:VCALENDAR